BEGIN:VCALENDAR
VERSION:2.0
PRODID:-//SPD Šentjanž - ECPv6.2.3.2//NONSGML v1.0//EN
CALSCALE:GREGORIAN
METHOD:PUBLISH
X-ORIGINAL-URL:https://www.spd-sentjanz.at
X-WR-CALDESC:Events for SPD Šentjanž
REFRESH-INTERVAL;VALUE=DURATION:PT1H
X-Robots-Tag:noindex
X-PUBLISHED-TTL:PT1H
BEGIN:VTIMEZONE
TZID:Europe/Vienna
BEGIN:DAYLIGHT
TZOFFSETFROM:+0100
TZOFFSETTO:+0200
TZNAME:CEST
DTSTART:20230326T010000
END:DAYLIGHT
BEGIN:STANDARD
TZOFFSETFROM:+0200
TZOFFSETTO:+0100
TZNAME:CET
DTSTART:20231029T010000
END:STANDARD
END:VTIMEZONE
BEGIN:VEVENT
DTSTART;TZID=Europe/Vienna:20231118T130000
DTEND;TZID=Europe/Vienna:20231118T200000
DTSTAMP:20260424T143012
CREATED:20231105T203315Z
LAST-MODIFIED:20231114T112423Z
UID:2323-1700312400-1700337600@www.spd-sentjanz.at
SUMMARY:[:sl]Trg ročnih in domačih izdelkov[:de]Handwerk und Selbstgemachtes[:]
DESCRIPTION:Umetniki in rokodelci bodo razstavljali in prodajali svoja ročna dela in domače izdelke. \n\nSeiferei WEISS (https://seifereiweiss.at)\nMelina Kumer (https://www.umgarnte-steine.at)\nFranz Partl\nMirko Malle\nSimona Rovšek\nSigrid Peruci
URL:https://www.spd-sentjanz.at/event/trg-rocnih-in-domacih-izdelkov/
LOCATION:k&k St. Johann / Šentjanž\, St. Johann im Rosental 33\, Strau\, Kärnten\, 9162
ATTACH;FMTTYPE=image/jpeg:https://www.spd-sentjanz.at/wp-content/uploads/2023/11/WhatsApp-Image-2023-11-14-at-12.20.48.jpeg
END:VEVENT
END:VCALENDAR