BEGIN:VCALENDAR
VERSION:2.0
PRODID:-//SPD Šentjanž - ECPv6.2.3.2//NONSGML v1.0//EN
CALSCALE:GREGORIAN
METHOD:PUBLISH
X-WR-CALNAME:SPD Šentjanž
X-ORIGINAL-URL:https://www.spd-sentjanz.at
X-WR-CALDESC:Veranstaltungen für SPD Šentjanž
REFRESH-INTERVAL;VALUE=DURATION:PT1H
X-Robots-Tag:noindex
X-PUBLISHED-TTL:PT1H
BEGIN:VTIMEZONE
TZID:Europe/Vienna
BEGIN:DAYLIGHT
TZOFFSETFROM:+0100
TZOFFSETTO:+0200
TZNAME:CEST
DTSTART:20180325T010000
END:DAYLIGHT
BEGIN:STANDARD
TZOFFSETFROM:+0200
TZOFFSETTO:+0100
TZNAME:CET
DTSTART:20181028T010000
END:STANDARD
END:VTIMEZONE
BEGIN:VEVENT
DTSTART;TZID=Europe/Vienna:20180421T090000
DTEND;TZID=Europe/Vienna:20180421T190000
DTSTAMP:20260424T215941
CREATED:20190106T154148Z
LAST-MODIFIED:20190106T154203Z
UID:280-1524301200-1524337200@www.spd-sentjanz.at
SUMMARY:[:de]Bildungsreise nach San Pietro al Natisone / Špeter Slovenov und ins Soča-Tal.[:sl]Izlet v muzej SMO v Špetru v Beneški Sloveniji in v Soško dolino[:]
DESCRIPTION:Diese wurde von Mag. Stefan Pinter\, einem hervorragenden Kenner dieser Gegend\, vorbereitet und geleitet. Das neue Museum SMO (Slovensko multimedijsko okno – Finestra multimediale slovena) erzählt die Geschichte der Slowenen in Italien\, vom Kanaltal bis zur Bucht von Triest\, dabei ist der Fokus auf die Slavia Veneta bzw. Slavia Friulana (Beneška Slovenija) gerichtet. \nDie Teilnehmerinnen vor dem Museum SMO \n 
URL:https://www.spd-sentjanz.at/event/bildungsreise-nach-san-pietro-al-natisone-speter-slovenov-und-ins-soca-tal/
LOCATION:Kärnten
END:VEVENT
BEGIN:VEVENT
DTSTART;TZID=Europe/Vienna:20180304T110000
DTEND;TZID=Europe/Vienna:20180304T110000
DTSTAMP:20260424T215941
CREATED:20190106T154224Z
LAST-MODIFIED:20190106T154229Z
UID:285-1520161200-1520161200@www.spd-sentjanz.at
SUMMARY:[:de]Klassik am Sonntag [:sl]Nedeljska klasika [:]
DESCRIPTION:Konzert der Teilnehmerinnen beim Musikwettbewerb „prima la musica“ in Ossiach \nLana Škudnik\, Viktoria Kristof\, Samo Schön\, Zala Moschitz \n 
URL:https://www.spd-sentjanz.at/event/klassik-am-sonntag/
LOCATION:k&k St. Johann / Šentjanž\, St. Johann im Rosental 33\, Strau\, Kärnten\, 9162
END:VEVENT
BEGIN:VEVENT
DTSTART;TZID=Europe/Vienna:20180112T193000
DTEND;TZID=Europe/Vienna:20180112T213000
DTSTAMP:20260424T215941
CREATED:20190106T154348Z
LAST-MODIFIED:20190106T154403Z
UID:277-1515785400-1515792600@www.spd-sentjanz.at
SUMMARY:[:de]Neujahrskonzert[:sl]Novoletni koncert [:]
DESCRIPTION:Novoletni_koncert_2018_ \n \nMGV Heimat (Dellach im Gailtal /Dole) \n \nMešani pevski zbor Sele / der Gemischte Chor Sele\, Leitung Mag. Roman Verdel \n\nŠentjanški tamburaši\nNeujahrsansprache: Mag. Roman Verdel
URL:https://www.spd-sentjanz.at/event/neujahrskonzert-2/
LOCATION:k&k St. Johann / Šentjanž\, St. Johann im Rosental 33\, Strau\, Kärnten\, 9162
END:VEVENT
END:VCALENDAR