BEGIN:VCALENDAR
VERSION:2.0
PRODID:-//SPD Šentjanž - ECPv6.2.3.2//NONSGML v1.0//EN
CALSCALE:GREGORIAN
METHOD:PUBLISH
X-WR-CALNAME:SPD Šentjanž
X-ORIGINAL-URL:https://www.spd-sentjanz.at
X-WR-CALDESC:Events for SPD Šentjanž
REFRESH-INTERVAL;VALUE=DURATION:PT1H
X-Robots-Tag:noindex
X-PUBLISHED-TTL:PT1H
BEGIN:VTIMEZONE
TZID:Europe/Vienna
BEGIN:DAYLIGHT
TZOFFSETFROM:+0100
TZOFFSETTO:+0200
TZNAME:CEST
DTSTART:20230326T010000
END:DAYLIGHT
BEGIN:STANDARD
TZOFFSETFROM:+0200
TZOFFSETTO:+0100
TZNAME:CET
DTSTART:20231029T010000
END:STANDARD
END:VTIMEZONE
BEGIN:VEVENT
DTSTART;TZID=Europe/Vienna:20231217T180000
DTEND;TZID=Europe/Vienna:20231217T200000
DTSTAMP:20260424T114025
CREATED:20231123T102622Z
LAST-MODIFIED:20231123T102622Z
UID:2340-1702836000-1702843200@www.spd-sentjanz.at
SUMMARY:[:sl]Adventni koncert[:de]Adventkonzert[:]
DESCRIPTION:Nastopajo: \n\nMoška vokalna skupina Svrž\nVokalna skupina Lipa\nAnsambel La Gioia\nŠentjanški tamburaši\nMoški pevski zbor Andrej Permož
URL:https://www.spd-sentjanz.at/event/adventni-koncert/
LOCATION:Pfarrkirche St. Johann im Rosental/ Farna cerkev Šentjanž v Rožu\, St. Johann im Rosental 21\, Feistritz im Rosental\, Kärnten\, 9162\, Avstrija
ATTACH;FMTTYPE=image/png:https://www.spd-sentjanz.at/wp-content/uploads/2023/11/Bildschirmfoto-2023-11-23-um-11.25.54.png
END:VEVENT
END:VCALENDAR